Workbook
Name __xlfn_AGGREGATE: NA()
Name __xlfn_IFERROR: NA()
Name ABRIL: [1]ENE!$A$63:$B$68+[1]ENE!$A$63:$B$68
Name AGOSTO: [1]ENE!$A$63:$B$68+[1]ENE!$A$63:$B$68
Name AT: #REF!
Name AuseNC: [1]ENE!$A$63:$B$68+[1]ENE!$A$63:$B$68
Name CLASE_DE_RIESGO: #REF!+#REF!
Name Dias: #REF!
Name DiasAu: [1]ENE!$A$63:$B$68+[1]ENE!$A$63:$B$68
Name Excel_BuiltIn_Print_Area: Cumplimiento!$A$3:$I$31
Name Excel_BuiltIn_Print_Titles: Plan_anual_trabajo!$3:$11
Name Horas: #REF!
Name JULIO: [1]ENE!$A$63:$B$68+[1]ENE!$A$63:$B$68
Name JUNIO: [1]ENE!$A$63:$B$68+[1]ENE!$A$63:$B$68
Name MAYO: [1]ENE!$A$63:$B$68+[1]ENE!$A$63:$B$68
Name Meses: #REF!
Name SEPT: [1]ENE!$A$63:$B$68+[1]ENE!$A$63:$B$68
Name TIPO: [3]Referencias!$D$2:$D$5
Name Valores: [1]ENE!$A$63:$B$68+[1]ENE!$A$63:$B$68

Sheet Plan_anual_trabajo
C1: DOCUMENTO DE APOYO PLAN DE TRABAJO ANUAL DEL SISTEMA DE GESTIÓN DE SEGURIDAD Y SALUD EN EL TRABAJO 2024
A2: PROCESO: GESTIÓN DE LA SEGURIDAD Y SALUD EN EL TRABAJO | K2: CODIGO: SST-S1-D10 | AI2: VIGENCIA: 26/01/2024 | AX2: V6 | BD2: PAGINA: 1 de 3
A4: OBJETIVO | E4: Diseñar, desarrollar, ejecutar y garantizar el cumplimiento del plan de trabajo anual para alcanzar cada uno de los objetivos propuestos en el Sistema de Gestión de la Seguridad y Salud en el Trabajo SG-SST de la E.S.E CARMEN EMILIA OSPINA. | BD4: Hoy | BE4: =TODAY() -> 45322
BD5: Dias de alerta por vencer | BE5: 5
BD6: ESTADO
A7: ALCANCE | E7: Todas las actividades establecidas en el Plan de Trabajo, incluyen a todos los trabajadores bajo cualquier modalidad de Contrato que se encuentren expuestos a algun Riesgo en las Instalaciones y cada uno de los centros de trabajo de la E.S.E CARMEN EMILIA OSPINA. | BD7: Vencido
BD8: Por vencer
BD9: Con tiempo
A10: ACTIVIDAD | E10: RESPONSABLES | F10: EVIDENCIA | G10: P | H10: ENERO | L10: FEBRERO | P10: MARZO | T10: ABRIL | X10: MAYO | AB10: JUNIO | AF10: JULIO | AJ10: AGOSTO | AN10: SEPTIEMBRE | AR10: OCTUBRE | AV10: NOVIEMBRE | AZ10: DICIEMBRE | BD10: FALTANTES | BE10: ESTADO
G11: E | H11: 1 | I11: 2 | J11: 3 | K11: 4 | L11: 1 | M11: 2 | N11: 3 | O11: 4 | P11: 1 | Q11: 2 | R11: 3 | S11: 4 | T11: 1 | U11: 2 | V11: 3 | W11: 4 | X11: 1 | Y11: 2 | Z11: 3 | AA11: 4 | AB11: 1 | AC11: 2 | AD11: 3 | AE11: 4 | AF11: 1 | AG11: 2 | AH11: 3 | AI11: 4 | AJ11: 1 | AK11: 2 | AL11: 3 | AM11: 4 | AN11: 1 | AO11: 2 | AP11: 3 | AQ11: 4 | AR11: 1 | AS11: 2 | AT11: 3 | AU11: 4 | AV11: 1 | AW11: 2 | AX11: 3 | AY11: 4 | AZ11: 1 | BA11: 2 | BB11: 3 | BC11: 4
A12: SISTEMA DE GESTIÓN DE LA SEGURIDAD Y SALUD EN EL TRABAJO - GENERALIDADES | B12: Realización del Plan Anual de Trabajo para el año 2024 | E12: Profesional de apoyo SST contratista | F12: Plan Anual de Trabajo 2024 actualizado y publicado | G12: P | K12: P
G13: E | K13: E
B14: Actualizar la Política de Seguridad y salud en el trabajo | E14: Profesional de apoyo SST contratista | F14: Política de Seguridad y Salud en el Trabajo actualizada y publicada | G14: P | U14: p
G15: E
B16: Socialización de la Política de Seguridad y Salud en el Trabajo | E16: Profesional de apoyo SST contratista | F16: Registros de asistencia / Registros Fotográficos | G16: P | Q16: P
G17: E
B18: Actualización de las matrices de identificación de peligros, valoración y evaluación de riesgos de las sedes de la ESE Carmen Emilia Ospina | E18: Profesional de apoyo SST contratista / ARL | F18: Matriz IPVER para cada una de las sedes de la ESE Carmen Emilia Ospina | G18: P | S18: P | AN18: P
G19: E
B20: Inducción / Reinducción al personal en el SG-Profesional de apoyo SST contratista | E20: Profesional de apoyo SST contratista / ARL | F20: Registros de asistencia a Inducciones | G20: P | I20: P | L20: P | P20: P | T20: P | X20: P | AB20: P | AF20: P | AJ20: P | AN20: P | AR20: P | AV20: P | AZ20: P
G21: E | I21: E
B22: Verificación al cumplimiento de obligación de afiliación al Sistema General de Riesgos Laborales del personal por parte de los proveedores, contratistas y agremiados | E22: Profesional de apoyo SST contratista | F22: Soportes de pago de afiliación del periodo verificado | G22: P | K22: P | O22: P | S22: P | W22: P | AA22: P | AE22: P | AI22: P | AM22: P | AQ22: P | AU22: P | AY22: P | BB22: P
G23: E
B24: Seguimiento al Comité Paritario de Seguridad y Salud en el Trabajo | E24: Profesional de apoyo SST contratista / ARL | F24: Actas del Comité del COPASST contratista | G24: P | K24: P | O24: P | S24: P | W24: P | AA24: P | AE24: P | AI24: P | AM24: P | AQ24: P | AU24: P | AY24: P | BB24: P
G25: E
B26: Capacitacion al COPASST (Investigacion de AT, Roles y funciones, Inspecciones de seguridad) | E26: Profesional de apoyo SST contratista / ARL | F26: Registro de asistencia | G26: P | W26: P | AR26: P
G27: E
B28: Actualización de curso de 50 o 20 horas del SG SST, Comité de Convivencia Laboral, Responsable SST y al Miembros del COPASST | E28: Profesional de apoyo SST contratista / ARL | F28: Certificado del curso de SG-Profesional de apoyo SST contratista de 50/20 Horas | G28: P | AM28: P
G29: E
B30: Actualización y Seguimiento a la matriz de requisitos legales (Normograma) | E30: Profesional de apoyo SST contratista / ARL | F30: Matriz de Requisitos Legales | G30: P | L30: P | Z30: P | AL30: P | AX30: P
G31: E
B32: Seguimiento al Programa Integral de capacitación SG-Profesional de apoyo SST contratista | E32: Profesional de apoyo SST contratista / ARL | F32: Evidencia de ejecución del programa | G32: P | L32: P | P32: P | T32: P | X32: P | AB32: P | AF32: P | AJ32: P | AN32: P | AR32: P | AV32: P | AZ32: P
G33: E
B34: Realizar revisión y ajuste al Tablero de indicadores del SG-Profesional de apoyo SST contratista | E34: Profesional de apoyo SST contratista / ARL | F34: Tablero de Indicadores actualizado Incluyendo los establecidos en la resolución 0312 de 2019 y cada uno de los programas del SG_SST de la ESE CEO | G34: P | N34: P | O34: P
G35: E
B36: Seguimiento a indicadores del SG-STT | E36: Profesional de apoyo SST contratista / ARL | F36: Tablero de Indicadores del SG-SST | G36: P | R36: P | AD36: P | AQ36: P | BB36: P
G37: E
B38: Revisión por la alta dirección del SG-Profesional de apoyo SST contratista | E38: Profesional de apoyo SST contratista | F38: Acta de Reunion Rendición de cuentas / Soporte de Informe de Gestión / Evaluación de Control Interno y socialización de resultados a la Gerencia | G38: P | K38: P | AV38: P
G39: E | K39: E
B40: Auditoría Interna al SG-Profesional de apoyo SST contratista | E40: Profesional de apoyo SST contratista / ARL | F40: Informe de Auditoría | G40: P | S40: P
G41: E
B42: Seguimiento a las acciones correctivas | E42: Profesional de apoyo SST contratista / ARL | F42: Registro en Matriz de seguimiento de hallazgos / soportes de intervenciones | G42: P | O42: P | W42: P | AE42: P | AM42: P | AU42: P | BC42: P
G43: E
A44: PROGRAMA TRABAJO SEGURO EN ALTURAS | B44: Actualización del Programa de Trabajo en Alturas y socialización a las áreas involucradas ( Contratación, infraestructura y las que apliquen) | E44: Profesional de apoyo SST contratista / ARL | F44: Programa de Trabajo en Alturas actualizado en el mapa de procesos de la ESE CEO y soporte de socialización | G44: P | T44: P
G45: E
B46: Taller - Capacitacion de Prevención frente a la realización de Trabajos en alturas | E46: Profesional de apoyo SST contratista /ARL | F46: Listado de Asistencia | G46: P | AB46: P
G47: E
B48: Inspección a las áreas de Trabajo donde se realicen trabajos en altura cuando aplique de acuerdo a la necesidad | E48: Profesional de apoyo SST contratista | F48: Formato ATS | G48: P | L48: P | P48: P | T48: P | X48: P | AB48: P | AF48: P | AJ48: P | AN48: P | AR48: P | AV48: P | AZ48: P
G49: E
B50: Seguimiento a los indicadores del programa de Trabajo seguro en Alturas | E50: Profesional de apoyo SST contratista | F50: Tablero de Indicadores del SG-SST | G50: P | R50: P | AD50: P | AQ50: P | BB50: P
G51: E
A52: PROGRAMA SEGURIDAD VIAL | B52: Actualización y divulgación del Programa de Seguridad Vial de la ESE CEO | E52: Profesional de apoyo SST contratista | F52: Programa de Seguridad Vial actualizado en el mapa de procesos de la ESE CEO y soporte de socialización | G52: P | AH52: p
G53: E
B54: Menejo defensivo | E54: Profesional de apoyo SST contratista | F54: Informe y Registro fotográfico | G54: P | AL54: p
G55: E
B56: Verificación de la ubicación de la Señalizacion Parqueadero | E56: Profesional de apoyo SST contratista | F56: Informe y Registro fotográfico | G56: P | R56: P
G57: E
B58: Actualización y Socialización de la Política de Seguridad Vial | E58: Profesional de apoyo SST contratista | F58: Política de Seguridad Vial actualilzada en el mapa de procesos de la ESE CEO / Registros de asistencia / Registros Fotográficos | G58: P | T58: P | AJ58: P
G59: E
B60: Inspección vehicular Preoperacional ( Referencia - Contrareferencica / Vehiculos Administrativos Institucionales) | E60: Profesional de apoyo SST contratista | F60: Registros de Inspección | G60: P | S60: p | AE60: p | AQ60: p | BA60: p
G61: E
B62: Inspección vehicular Preoperacional ( Viajes Personal de Planta de acuerdo a la necesidad) | E62: Profesional de apoyo SST contratista | F62: Registros de Inspección | G62: P | L62: P | P62: P | T62: P | X62: P | AB62: P | AF62: P | AJ62: P | AN62: P | AR62: P | AV62: P | AZ62: P
G63: E
B64: Campaña de Normatividad en Seguridad Vial | E64: Profesional de apoyo SST contratista /Secretaría de Tránsito Municipal | F64: Registros de Asistencia / Registro Fotográfico | G64: P | AG64: p
G65: E
B66: Capacitación Sensibilización Vial | E66: Profesional de apoyo SST contratista / AGREMIACIÓN ACTIVA SALUD | F66: Registros de Asistencia / Registro Fotográfico | G66: P | V66: P
G67: E
B68: Reunión Comité Seguridad Vial | E68: Profesional de apoyo SST contratista | F68: Registros de Asistencia / Registro Fotográfico | G68: P | T68: P | AJ68: P | AZ68: P
G69: E
B70: Seguimiento a Indicadores del Programa de Seguridad Vial | E70: Profesional de apoyo SST contratista | F70: Tablero de Indicadores del SG-SST | G70: P | T70: P | AJ70: P | AZ70: P
G71: E
A72: PROGRAMA DESORDENES MUSCULO ESQUELETICO | B72: Actualización y divulgación del Programa de Desordenes Musculo esqueléticos de la ESE CEO | E72: Profesional de apoyo SST contratista / ARL | F72: Programa de Desordenes Musculo esqueléticos actualizado en el mapa de procesos de la ESE CEO y soporte de socialización | G72: P | N72: P | AK72: P
G73: E
B74: Inspección y/o evaliuación de puestos de trabajo de acuerdo a la necesidad | E74: Profesional de apoyo SST contratista / ARL | F74: Informe de inspección de áreas de trabajo | G74: P | L74: P | P74: P | T74: P | X74: P | AB74: P | AF74: P | AJ74: P | AN74: P | AR74: P | AV74: P | AZ74: P
G75: E
B76: Socialización a COPASST y Alta Dirección de resultados de inspecciones a Puestos de Trabajo | E76: Profesional de apoyo SST contratista | F76: Listado de Asistencia / Acta copaProfesional de apoyo SST contratista | G76: P | AQ76: P
G77: E
B78: Taller de Autocuidado (Prevención de Enfermedades Laborales de Miembros Superiores, manejo de cargas, pusturas, | E78: Profesional de apoyo SST contratista / Agremiación ACTIVA SALUD / ARL | F78: Listado de Asistencia / Registro fotográfico | G78: P | O78: p
G79: E
B80: Jornada de Pausas Activas | E80: Profesional de apoyo SST contratista / ARL / AGREMIACIONES | F80: Registro de asistencia y fotográfico | G80: P | J80: P | L80: P | P80: P | T80: P | X80: P | AC80: P | AF80: P | AJ80: P | AN80: P | AR80: P | AV80: P | AZ80: P
G81: E | J81: E
B82: Jornada de Masajes y Rumbaterapia | E82: Profesional de apoyo SST contratista / Agremiación ACTIVA SALUD / ARL | F82: Registro de asistencia y fotográfico | G82: P | N82: p | U82: p | AD82: p | AL82: p | AT82: p | AZ82: p
G83: E
B84: Taller Orden y Aseo - Prevención Caídas | E84: Profesional de apoyo SST contratista / Agremiación ACTIVA SALUD / EPS | F84: Registro de asistencia y fotográfico | G84: P | X84: P
G85: E
B86: Seguimiento a los indicadores del programa de Desordenes Musculo esqueléticos de la ESE CEO | E86: Profesional de apoyo SST contratista / INDER | F86: Listado de Asistencia / Informe | G86: P | L86: P | P86: P | T86: P | X86: P | AB86: P | AF86: P | AJ86: P | AN86: P | AR86: P | AV86: P | AZ86: P
G87: E
A88: PROGRAMA DE ESTILOS DE VIDA SALUDABLE | B88: Actualización y divulgación del programa de estilos de vida saludables | E88: Profesional de apoyo SST contratista / ARL | F88: Programa de Desordenes Musculo esqueléticos actualizado en el mapa de procesos de la ESE CEO y soporte de socialización | G88: P | M88: P
G89: E
B90: Seguimiento a Pausas Activas | E90: Profesional de apoyo SST contratista / ARL / AGREMIACIONES | F90: Informe y Listado asistencia | G90: P | K90: P | O90: P | S90: P | W90: P | AA90: P | AE90: P | AI90: P | AM90: P | AQ90: P | AU90: P | AY90: P | BC90: P
G91: E | K91: E
B92: Jornada de Masajes y/o Pausas Activas y/o Rumbaterapia | E92: Profesional de apoyo SST contratista / Agremiación ACTIVA SALUD / EPS | F92: Registro de asistencia y fotográfico | G92: P | L92: P | P92: P | T92: P | X92: P | AC92: P | AF92: P | AJ92: P | AN92: P | AR92: P | AV92: P | AZ92: P
G93: E
B94: Actividad de integración (día de la SST, Semana de la salud, día de la Bicicleta, campeonatos deportivos, 5K) | E94: Profesional de apoyo SST contratista / TH / AMBIENTAL | F94: Cartilla de actividades de Hábitos de vida saludable / Registro Fotográfico / Registro de asistencia | G94: P | W94: P | AP94: P
G95: E
B96: Realizar el seguimiento a los Indicadores del Programa de Estilos de vida saludable | E96: Profesional de apoyo SST contratista / TH | F96: Tablero de Indicadores del SG-SST | G96: P | L96: P | AB96: P | AN96: P | AZ96: P
G97: E
A98: PROGRAMA DE RIESGO PSICOSOCIAL | B98: Elaboracion y Aplicación de bateria de Riesgo Psicosocial | E98: Profesional De Apoyo SST Contratista // PSICOLOGA ESPECIALISTA EN SST | F98: Informe de aplicación de batería de riesgo psicosocial | G98: P | AF98: P
G99: E
B100: Socialización del Informe de resultados de la medición de Riesgo Psicosocial en la ESE CEO | E100: Profesional De Apoyo SST Contratista // PSICOLOGA ESPECIALISTA EN SST | F100: Informe de aplicación de batería de riesgo psicosocial | G100: P | P100: p
G101: E
...

Sheet Cumplimiento
B1: DOCUMENTO DE APOYO PLAN DE TRABAJO ANUAL DEL SISTEMA DE GESTIÓN DE SEGURIDAD Y SALUD EN EL TRABAJO 2024
A2: PROCESO: GESTIÓN DE SEGURIDAD Y SALUD EN EL TRABAJO | D2: CODIGO: SST-S1-D10 | F2: VIGENCIA:26/01/2024 | H2: V6 | I2: PAGINA: 2 de 3
A4: PROCESO | C4: Seguridad y Salud en el Trabajo
A5: NOMBRE DEL INDICADOR | C5: Evaluación del cumplimiento del Plan Anual de Trabajo
A6: RESPONSABLE | C6: Coordinador SG-SST
A7: PERIODICIDAD | C7: Análisis Trimestral
A8: UNIDAD | C8: Porcentaje
A9: TIPO DE INDICADOR | C9: Proceso
A10: MÉTODO DE CALCULO | C10: (Actividades ejecutadas en el mes / Actividades programadas en el mes) x 100
A11: DEFINICIÓN DEL INDICADOR | C11: Mide porcentualmente el cumplimiento en la ejecución de las actividades del Plan de trabajo Anual del SG-SST
A12: FUENTE DE DATOS: | C12: Plan de Trabajo Anual del SG-SST
A13: PERSONAS A CONOCER EL REPORTE | C13: Alta Dirección
A14: TABLA DE SEGUIMIENTO
A15: MEDICIÓN | C15: META
A16: Enero | B16: =Plan_anual_trabajo!H166 -> 0.5 | C16: 0.9
A17: Febrero | B17: =Plan_anual_trabajo!L166 -> 0 | C17: 0.9
A18: Marzo | B18: =Plan_anual_trabajo!P166 -> 0 | C18: 0.9
A19: Abril | B19: =Plan_anual_trabajo!T166 -> 0 | C19: 0.9
A20: Mayo | B20: =Plan_anual_trabajo!X166 -> 0 | C20: 0.9
A21: Junio | B21: =Plan_anual_trabajo!AB166 -> 0 | C21: 0.9
A22: Julio | B22: =Plan_anual_trabajo!AF166 -> 0 | C22: 0.9
A23: Agosto | B23: =Plan_anual_trabajo!AJ166 -> 0 | C23: 0.9
A24: Septiembre | B24: =Plan_anual_trabajo!AN166 -> 0 | C24: 0.9
A25: Octubre | B25: =Plan_anual_trabajo!AR166 -> 0 | C25: 0.9
A26: Noviembre | B26: =Plan_anual_trabajo!AV166 -> 0 | C26: 0.9
A27: Diciembre | B27: =Plan_anual_trabajo!AZ166 -> 0 | C27: 0.9
A28: ANÁLISIS / INTERPRETACIÓN DEL INDICADOR
A30: B22:J35B19:J35B34B24:J35B17:J35B16:J35B14:J35B12:J35B10:J35B8:J35B2:J35B1:J35B2:J35B34B24:J35B1:J35B2:J35

Sheet Control_de_cambios
B1: DOCUMENTO DE APOYO PLAN DE TRABAJO ANUAL DEL SISTEMA DE GESTIÓN DE SEGURIDAD Y SALUD EN EL TRABAJO 2024
A2: PROCESO: GESTIÓN DE SEGURIDAD Y SALUD EN EL TRABAJO | D2: CODIGO: SST-S1-D10 | F2: VIGENCIA: 26/01/2024 | H2: V6 | I2: PAGINA: 3 de 3
A4: CONTROL DE CAMBIOS
A5: Versión | D5: Descripción del cambio | G5: Fecha de aprobación
A6: 1 | D6: Elaboración del documento: Se elabora documento con el fin de dar cumplimiento al SG-SST del subproceso: "Salud Ocupacional". | G6: 44161
A7: 2 | D7: Modificación del documento: Se modifica documento con el fin de actualizar el contenido en general y asi mismo obtener una mejora continua en el subproceso: "Salud Ocupacional" | G7: 44224
A8: 3 | D8: Modificación del documento: Se modifica documento con el fin de actualizar el contenido en general, realizar ajustes estructurales y actualización de vigencia. Asi mismo obtener una mejora continua en el subproceso: "Salud Ocupacional" | G8: 44224
A9: 4 | D9: Modificación del documento: Se modifica el documento con el fin de obtener una mejora continua en el subproceso de "Sistema de Seguridad y Salud en el Trabajo" - Actualización a la vigencia 2022 -Ajustes estructurales | G9: 44747
A10: 5 | D10: Modificación del documento: Se modifica documento con el fin de obtener una mejora continua en el subproceso de "Sistema de seguridad y salud en el trabajo", se realizaron los siguientes ajustes: 1. Actualización de la vigencia. 2. Ajustes estructurales. | G10: 44956
A11: 6 | D11: Modificación del documento: Se modifica documento con el fin de obtener una mejora continua en el subproceso de "Sistema de seguridad y salud en el trabajo", se realizaron los siguientes ajustes: 1. Actualización de la vigencia. 2. Ajustes estructurales. | G11: 45317
A12: Nombre: Mercedes Perdomo Oviedo Contratista área de Seguridad y Salud en el Trabajo. Nombre: Karla Gisela Puentes Medina. Agremiada Asistir | D12: Nombre: Irma Susana Bermúdez Acosta. Contratista área Garantía de la Calidad. | G12: Nombre: Eulogio Durán Cargo: Subgerente Administrativo. Nombre: Jose Antonio Muñoz Paz. Cargo: Gerente.
A13: Elaboro | D13: Revisó | G13: Aprobó
